BEGIN:VCALENDAR
VERSION:2.0
PRODID:-//Road Safety Education - ECPv4.9.10//NONSGML v1.0//EN
CALSCALE:GREGORIAN
METHOD:PUBLISH
X-WR-CALNAME:Road Safety Education
X-ORIGINAL-URL:https://rse.org.au
X-WR-CALDESC:Events for Road Safety Education
BEGIN:VTIMEZONE
TZID:Europe/Paris
BEGIN:DAYLIGHT
TZOFFSETFROM:+0100
TZOFFSETTO:+0200
TZNAME:CEST
DTSTART:20210328T010000
END:DAYLIGHT
BEGIN:STANDARD
TZOFFSETFROM:+0200
TZOFFSETTO:+0100
TZNAME:CET
DTSTART:20211031T010000
END:STANDARD
END:VTIMEZONE
BEGIN:VEVENT
DTSTART;TZID=Europe/Paris:20210226T091500
DTEND;TZID=Europe/Paris:20210226T143000
DTSTAMP:20210228T111956
CREATED:20201217T003812Z
LAST-MODIFIED:20210222T044327Z
UID:6065-1614330900-1614349800@rse.org.au
SUMMARY:Coleambally Central School\, Hay War Memorial High School\, Leeton High School & Narrandera High School
DESCRIPTION:Students are asked to bring their own morning tea as there are no canteen facilities for students.\nStudents are welcome to bring their own lunch\, or purchase lunch from Rotary. \nStudents are reminded to bring a pen and water. \n
URL:https://rse.org.au/event/coleambally-central-school-hay-war-memorial-high-school-leeton-high-school-ryda-narrandera-high-school/
LOCATION:Leeton\, Yanco Agricultural Institute\, 2198 Irrigation Way\, Yanco NSW 2703\, Leeton\, NSW\, Australia
ORGANIZER;CN="Organised%20locally%20by%20Rotary%20with%20RSE%20%20Head%20Office":MAILTO:programs@rse.org.au
END:VEVENT
END:VCALENDAR