BEGIN:VCALENDAR
VERSION:2.0
PRODID:-//Road Safety Education - ECPv4.9.10//NONSGML v1.0//EN
CALSCALE:GREGORIAN
METHOD:PUBLISH
X-WR-CALNAME:Road Safety Education
X-ORIGINAL-URL:https://rse.org.au
X-WR-CALDESC:Events for Road Safety Education
BEGIN:VTIMEZONE
TZID:Europe/Paris
BEGIN:DAYLIGHT
TZOFFSETFROM:+0100
TZOFFSETTO:+0200
TZNAME:CEST
DTSTART:20210328T010000
END:DAYLIGHT
BEGIN:STANDARD
TZOFFSETFROM:+0200
TZOFFSETTO:+0100
TZNAME:CET
DTSTART:20211031T010000
END:STANDARD
END:VTIMEZONE
BEGIN:VEVENT
DTSTART;TZID=Europe/Paris:20210215T093000
DTEND;TZID=Europe/Paris:20210215T140000
DTSTAMP:20210228T111154
CREATED:20210201T213641Z
LAST-MODIFIED:20210201T213641Z
UID:6368-1613381400-1613397600@rse.org.au
SUMMARY:Galston High School
DESCRIPTION:\nStudents are reminded to bring a pen\, water\, morning tea and lunch.\nCatering is provided for teachers.\n\n
URL:https://rse.org.au/event/galston-high-school-2/
LOCATION:Sydney – Penrith\, Sydney International Regatta Centre\, Gate 1\, Old Castlereagh Road\, Penrith\, NSW\, 2750\, Australia
ORGANIZER;CN="Tracey%20Grinter%20%28Program%20Coordinator%20-%20NSW%29":MAILTO:nsw@rse.org.au
END:VEVENT
END:VCALENDAR