BEGIN:VCALENDAR
VERSION:2.0
PRODID:-//Road Safety Education - ECPv4.9.10//NONSGML v1.0//EN
CALSCALE:GREGORIAN
METHOD:PUBLISH
X-WR-CALNAME:Road Safety Education
X-ORIGINAL-URL:https://rse.org.au
X-WR-CALDESC:Events for Road Safety Education
BEGIN:VTIMEZONE
TZID:Europe/Paris
BEGIN:DAYLIGHT
TZOFFSETFROM:+0100
TZOFFSETTO:+0200
TZNAME:CEST
DTSTART:20210328T010000
END:DAYLIGHT
BEGIN:STANDARD
TZOFFSETFROM:+0200
TZOFFSETTO:+0100
TZNAME:CET
DTSTART:20211031T010000
END:STANDARD
END:VTIMEZONE
BEGIN:VEVENT
DTSTART;TZID=Europe/Paris:20210210T090000
DTEND;TZID=Europe/Paris:20210210T143000
DTSTAMP:20210228T111024
CREATED:20210211T013910Z
LAST-MODIFIED:20210211T013910Z
UID:6432-1612947600-1612967400@rse.org.au
SUMMARY:Highfields State Secondary College
DESCRIPTION:Students are asked to supply their own morning tea. \n
URL:https://rse.org.au/event/highfields-state-secondary-college-3/
LOCATION:Darling Downs (Toowoomba)\, Various locations\, Toowoomba\, QLD\, 4350\, Australia
ORGANIZER;CN="Organised%20locally%20by%20Rotary%20with%20RSE%20%20Head%20Office":MAILTO:programs@rse.org.au
END:VEVENT
END:VCALENDAR