BEGIN:VCALENDAR
VERSION:2.0
PRODID:-//Road Safety Education - ECPv4.9.10//NONSGML v1.0//EN
CALSCALE:GREGORIAN
METHOD:PUBLISH
X-WR-CALNAME:Road Safety Education
X-ORIGINAL-URL:https://rse.org.au
X-WR-CALDESC:Events for Road Safety Education
BEGIN:VTIMEZONE
TZID:Europe/Paris
BEGIN:DAYLIGHT
TZOFFSETFROM:+0100
TZOFFSETTO:+0200
TZNAME:CEST
DTSTART:20210328T010000
END:DAYLIGHT
BEGIN:STANDARD
TZOFFSETFROM:+0200
TZOFFSETTO:+0100
TZNAME:CET
DTSTART:20211031T010000
END:STANDARD
END:VTIMEZONE
BEGIN:VEVENT
DTSTART;TZID=Europe/Paris:20210217T093000
DTEND;TZID=Europe/Paris:20210217T140000
DTSTAMP:20210228T111356
CREATED:20210120T213958Z
LAST-MODIFIED:20210120T213958Z
UID:6231-1613554200-1613570400@rse.org.au
SUMMARY:Horowhenua College\, Manawatū College
DESCRIPTION:Students are reminded to bring a pen\, water\, morning tea and lunch. The Levin Rapid Relief Team will provide a free sausage sizzle for students at lunchtime. Catering is provided for teachers. \n
URL:https://rse.org.au/event/horowhenua-college-manawatu-college-2/
LOCATION:Levin\, Donnelly Park Horowhenua Levin 5510 New Zealand\, Levin\, NZ\, 5510\, New Zealand
ORGANIZER;CN="Natalie%20Alabaster%20%28Program%20Coordinator%20-%20Lower%20North%20Island%29":MAILTO:wellington@rse.org.nz
END:VEVENT
END:VCALENDAR