BEGIN:VCALENDAR
VERSION:2.0
PRODID:-//Road Safety Education - ECPv4.9.10//NONSGML v1.0//EN
CALSCALE:GREGORIAN
METHOD:PUBLISH
X-WR-CALNAME:Road Safety Education
X-ORIGINAL-URL:https://rse.org.au
X-WR-CALDESC:Events for Road Safety Education
BEGIN:VTIMEZONE
TZID:Europe/Paris
BEGIN:DAYLIGHT
TZOFFSETFROM:+0100
TZOFFSETTO:+0200
TZNAME:CEST
DTSTART:20210328T010000
END:DAYLIGHT
BEGIN:STANDARD
TZOFFSETFROM:+0200
TZOFFSETTO:+0100
TZNAME:CET
DTSTART:20211031T010000
END:STANDARD
END:VTIMEZONE
BEGIN:VEVENT
DTSTART;TZID=Europe/Paris:20210217T093000
DTEND;TZID=Europe/Paris:20210217T141500
DTSTAMP:20210228T111314
CREATED:20201004T224855Z
LAST-MODIFIED:20210126T024822Z
UID:5535-1613554200-1613571300@rse.org.au
SUMMARY:Massey High School
DESCRIPTION:Located at The Trusts Arena.  Students are reminded to bring a pen\, raincoat and morning tea and lunch. \nThis workshop has been sponsored by The Rotary Club of Henderson\, COGS Waitakere and the Auckland Council Henderson Massey Local Board. \n
URL:https://rse.org.au/event/massey-high-school-2/
LOCATION:Auckland – Waitakere\, 65-67 Central Park Drive\, Henderson\,\, Waitakere\, Auckland\, 0610\, New Zealand
ORGANIZER;CN="Maria%20Lovelock%20%28NZ%20Manager%29":MAILTO:maria@rse.org.nz
END:VEVENT
END:VCALENDAR