BEGIN:VCALENDAR
VERSION:2.0
PRODID:-//Road Safety Education - ECPv4.9.10//NONSGML v1.0//EN
CALSCALE:GREGORIAN
METHOD:PUBLISH
X-WR-CALNAME:Road Safety Education
X-ORIGINAL-URL:https://rse.org.au
X-WR-CALDESC:Events for Road Safety Education
BEGIN:VTIMEZONE
TZID:Europe/Paris
BEGIN:DAYLIGHT
TZOFFSETFROM:+0100
TZOFFSETTO:+0200
TZNAME:CEST
DTSTART:20210328T010000
END:DAYLIGHT
BEGIN:STANDARD
TZOFFSETFROM:+0200
TZOFFSETTO:+0100
TZNAME:CET
DTSTART:20211031T010000
END:STANDARD
END:VTIMEZONE
BEGIN:VEVENT
DTSTART;TZID=Europe/Paris:20210212T093000
DTEND;TZID=Europe/Paris:20210212T140000
DTSTAMP:20210228T111033
CREATED:20210113T234036Z
LAST-MODIFIED:20210113T234036Z
UID:6186-1613122200-1613138400@rse.org.au
SUMMARY:Mt Maunganui College
DESCRIPTION:Students are reminded to bring a pen\, water\, morning tea and lunch. \nCatering is provided for teachers. \n
URL:https://rse.org.au/event/mt-maunganui-college-2/
LOCATION:Tauranga\, Baypark Arena\, 81 Truman Lane\, Mt Maunganui\, Tauranga\, Central North Island\, 3175\, New Zealand
ORGANIZER;CN="Pearl%20Newman%20%28Program%20Coordinator%20-%20Northland%29":MAILTO:northland@rse.org.nz
END:VEVENT
END:VCALENDAR