BEGIN:VCALENDAR
VERSION:2.0
PRODID:-//Road Safety Education - ECPv4.9.10//NONSGML v1.0//EN
CALSCALE:GREGORIAN
METHOD:PUBLISH
X-WR-CALNAME:Road Safety Education
X-ORIGINAL-URL:https://rse.org.au
X-WR-CALDESC:Events for Road Safety Education
BEGIN:VTIMEZONE
TZID:Europe/Paris
BEGIN:DAYLIGHT
TZOFFSETFROM:+0100
TZOFFSETTO:+0200
TZNAME:CEST
DTSTART:20210328T010000
END:DAYLIGHT
BEGIN:STANDARD
TZOFFSETFROM:+0200
TZOFFSETTO:+0100
TZNAME:CET
DTSTART:20211031T010000
END:STANDARD
END:VTIMEZONE
BEGIN:VEVENT
DTSTART;TZID=Europe/Paris:20210302T090000
DTEND;TZID=Europe/Paris:20210302T140000
DTSTAMP:20210228T112026
CREATED:20210120T215250Z
LAST-MODIFIED:20210120T215250Z
UID:6236-1614675600-1614693600@rse.org.au
SUMMARY:Tararua College
DESCRIPTION:Students are reminded to bring a pen\, water\, morning tea and lunch.  Catering is provided for teachers. \n
URL:https://rse.org.au/event/tararua-college/
LOCATION:Pahiatua\, Tararua College\, Churchill Street\, Pahiatua\, Hawkes Bay\, 4910\, New Zealand
ORGANIZER;CN="Natalie%20Alabaster%20%28Program%20Coordinator%20-%20Lower%20North%20Island%29":MAILTO:wellington@rse.org.nz
END:VEVENT
END:VCALENDAR