BEGIN:VCALENDAR
VERSION:2.0
PRODID:-//Road Safety Education - ECPv4.9.10//NONSGML v1.0//EN
CALSCALE:GREGORIAN
METHOD:PUBLISH
X-WR-CALNAME:Road Safety Education
X-ORIGINAL-URL:https://rse.org.au
X-WR-CALDESC:Events for Road Safety Education
BEGIN:VTIMEZONE
TZID:Europe/Paris
BEGIN:DAYLIGHT
TZOFFSETFROM:+0100
TZOFFSETTO:+0200
TZNAME:CEST
DTSTART:20210328T010000
END:DAYLIGHT
BEGIN:STANDARD
TZOFFSETFROM:+0200
TZOFFSETTO:+0100
TZNAME:CET
DTSTART:20211031T010000
END:STANDARD
END:VTIMEZONE
BEGIN:VEVENT
DTSTART;TZID=Europe/Paris:20210225T091500
DTEND;TZID=Europe/Paris:20210225T143000
DTSTAMP:20210228T111951
CREATED:20201217T003853Z
LAST-MODIFIED:20210222T044256Z
UID:6067-1614244500-1614263400@rse.org.au
SUMMARY:Marian Catholic College
DESCRIPTION:Students are asked to bring their own morning tea as there are no canteen facilities for students.\nStudents are welcome to bring their own lunch\, or purchase lunch from Rotary. \nStudents are reminded to bring a pen and water. \n
URL:https://rse.org.au/event/marian-catholic-college/
LOCATION:Leeton\, Yanco Agricultural Institute\, 2198 Irrigation Way\, Yanco NSW 2703\, Leeton\, NSW\, Australia
ORGANIZER;CN="Organised%20locally%20by%20Rotary%20with%20RSE%20%20Head%20Office":MAILTO:programs@rse.org.au
END:VEVENT
BEGIN:VEVENT
DTSTART;TZID=Europe/Paris:20210225T093000
DTEND;TZID=Europe/Paris:20210225T140000
DTSTAMP:20210228T111951
CREATED:20201004T224952Z
LAST-MODIFIED:20210126T025153Z
UID:5538-1614245400-1614261600@rse.org.au
SUMMARY:Southern Cross Campus
DESCRIPTION:Located at Mt Smart.  Students are reminded to bring a pen\, raincoat and morning tea and lunch. \nThis event has been kindly sponsored by The Rotary Club of Auckland Harbourside and COGS Auckland. \n
URL:https://rse.org.au/event/southern-cross-campus-2/
LOCATION:Auckland – Penrose\, 2 Beasley Avenue\, Penrose\,\, Penrose\, Auckland\, 1061\, New Zealand
ORGANIZER;CN="Maria%20Lovelock%20%28NZ%20Manager%29":MAILTO:maria@rse.org.nz
END:VEVENT
BEGIN:VEVENT
DTSTART;TZID=Europe/Paris:20210225T093000
DTEND;TZID=Europe/Paris:20210225T143000
DTSTAMP:20210228T111951
CREATED:20210113T044957Z
LAST-MODIFIED:20210113T194747Z
UID:6124-1614245400-1614263400@rse.org.au
SUMMARY:Waitaki Girls High & Waitaki Boy High School
DESCRIPTION:Students are reminded to bring their own morning tea\, lunch\, water bottle and a pen. Morning tea and lunch are provided for teachers. \n
URL:https://rse.org.au/event/waitaki-girls-high-waitaki-boy-high-school/
LOCATION:Athletic Marist Ruby Club\, Oamaru\, Centinial Park\, Taward Street\, Oamaru\, NSW\, 9400\, New Zealand
END:VEVENT
BEGIN:VEVENT
DTSTART;TZID=Europe/Paris:20210225T094500
DTEND;TZID=Europe/Paris:20210225T141500
DTSTAMP:20210228T111951
CREATED:20200916T034032Z
LAST-MODIFIED:20201022T024914Z
UID:5433-1614246300-1614262500@rse.org.au
SUMMARY:Eltham College & Swinburne Senior Secondary College
DESCRIPTION:  \nThe venue for the Program is Box Hill Institute Lilydale Lakeside\, 1 Jarlo Drive\, Lilydale. Your school is to arrange its own transport to and from the venue. Please direct bus driver to alight and board passengers outside of the conference centre on the left hand side of the driveway. \nStudents are reminded to bring a pen\, water\, morning tea and lunch as there is no food available for purchase at the venue. Catering is provided for teachers. \n
URL:https://rse.org.au/event/swinburne-senior-secondary-college-2/
LOCATION:Lilydale\, Box Hill Institute - Lilydale Lakeside Campus\, 1 Jarlo Drive\, Lilydale\, VIC\, 3140\, Australia
ORGANIZER;CN="Catherine%20Smith%20%28Senior%20Program%20Coordinator%29":MAILTO:vic@rse.org.au
END:VEVENT
END:VCALENDAR